BEGIN:VCALENDAR
VERSION:2.0
PRODID:-//HIBERUS - ECPv4.9.13//NONSGML v1.0//EN
CALSCALE:GREGORIAN
METHOD:PUBLISH
X-WR-CALNAME:HIBERUS
X-ORIGINAL-URL:https://hiberus.unizar.es
X-WR-CALDESC:Eventos para HIBERUS
BEGIN:VTIMEZONE
TZID:Europe/Madrid
BEGIN:DAYLIGHT
TZOFFSETFROM:+0100
TZOFFSETTO:+0200
TZNAME:CEST
DTSTART:20250330T010000
END:DAYLIGHT
BEGIN:STANDARD
TZOFFSETFROM:+0200
TZOFFSETTO:+0100
TZNAME:CET
DTSTART:20251026T010000
END:STANDARD
END:VTIMEZONE
BEGIN:VEVENT
DTSTART;TZID=Europe/Madrid:20250327T123000
DTEND;TZID=Europe/Madrid:20250327T123000
DTSTAMP:20260424T145159
CREATED:20250321T115013Z
LAST-MODIFIED:20250321T115217Z
UID:7452-1743078600-1743078600@hiberus.unizar.es
SUMMARY:Ctesias de Cnido: un griego en la corte del Gran Rey de PersiaManel García Sánchez y Carmen Sánchez Mañas
DESCRIPTION:El próximo jueves día 27\, los profesores Manel García Sánchez (Universidad de Barcelona) y Carmen Sánchez Mañas (Universidad de Murcia) impartirán una conferencia sobre el tema: Ctesias de Cnido: un griego en la corte del Gran Rey de Persia. \nTendrá lugar en el Salón de Grados de la Facultad a las 12.30 de la mañana. \n\n
URL:https://hiberus.unizar.es/evento/ctesias-de-cnido-un-griego-en-la-corte-de-persia/
LOCATION:Facultad de Filosofía y Letras (Unizar)\, Sala de Grados\, Pedro Cerbuna\, 12\, Zaragoza\, Zaragoza\, 50009\, España
CATEGORIES:Conferencia
ATTACH;FMTTYPE=image/jpeg:https://hiberus.unizar.es/wp-content/uploads/2025/03/Conferencias_Manel_Carmen_page-0001-scaled-e1742557882605.jpg
END:VEVENT
END:VCALENDAR