BEGIN:VCALENDAR
VERSION:2.0
PRODID:-//HIBERUS - ECPv4.9.13//NONSGML v1.0//EN
CALSCALE:GREGORIAN
METHOD:PUBLISH
X-WR-CALNAME:HIBERUS
X-ORIGINAL-URL:https://hiberus.unizar.es
X-WR-CALDESC:Eventos para HIBERUS
BEGIN:VTIMEZONE
TZID:Europe/Madrid
BEGIN:DAYLIGHT
TZOFFSETFROM:+0100
TZOFFSETTO:+0200
TZNAME:CEST
DTSTART:20210328T010000
END:DAYLIGHT
BEGIN:STANDARD
TZOFFSETFROM:+0200
TZOFFSETTO:+0100
TZNAME:CET
DTSTART:20211031T010000
END:STANDARD
END:VTIMEZONE
BEGIN:VEVENT
DTSTART;VALUE=DATE:20210909
DTEND;VALUE=DATE:20210911
DTSTAMP:20260423T070511
CREATED:20210727T110235Z
LAST-MODIFIED:20210727T110236Z
UID:7009-1631145600-1631318399@hiberus.unizar.es
SUMMARY:XI Coloquio de Historia Antigua de la Universidad de Zaragoza. Pobreza en el mundo antiguo Francisco Pina Polo\, Francisco Marco Simón\, Victoria Escribano Paño\, Laura Sancho Rocher
DESCRIPTION:DÍA 9 DE SEPTIEMBRE\, JUEVES \n  \n9.30 Inauguración \n10-11.30 Primera Sesión. \nIgnacio Márquez Rowe (CSIC Madrid): ‘Hambre\, deudas y esclavitud en el antiguo Próximo Oriente’ \nLucia Cecchet (Mainz): ‘Economic and social perceptions of poverty in archaic and classical Greek sources’ \n12.15-13.45 Segunda Sesión \nLaura Sancho Rocher (Zaragoza): ‘La política democrática de los subsidios: de Pericles a Eubulo’ \nMiriam Valdés (Complutense Madrid) – Aida Fernández Prieto: ‘Familia\, pobreza y vulnerabilidad en la Atenas clásica: ancianos\, viudas y huérfanos de guerra’ \n17-19.15 Tercera Sesión \nMarco Gª Quintela (Santiago de Compostela): ‘Sócrates descalzo y la construcción de la imagen social del filósofo en la Atenas democrática’ \nAna Mayorgas Rodríguez (Complutense Madrid): ‘Obscura multitudo. El mito de los humildes orígenes de Roma’ \nJavier Velaza (Barcelona): ‘Quid est pauper? El ‘pobre’ romano\, entre la literatura y la epigrafía’ \n  \nDÍA 10 DE SEPTIEMBRE\, VIERNES \n9.45-11.15 Cuarta Sesión \nEduardo Sánchez-Moreno (Autónoma Madrid): ‘Entre el discurso y la falta de recursos: la pobreza en la narrativa del imperialismo romano’ \nPedro López Barja (Santiago de Compostela): ‘Pobres y esclavos: el círculo de poder en la Antigua Roma’ \n12-13.30 Quinta Sesión \nFrancisco Pina Polo (Zaragoza): ‘Misera ac ieiuna plebecula: la posición de Cicerón frente a la pobreza’ \nYan Berthelet (Lieja): ‘Pobreza\, mendicidad\, superstición y charlatanería durante la República y el Imperio romano. Algunas reflexiones’ \n17-19.15 Sexta Sesión \nRosa Cid (Oviedo): ‘Vetula meretrix: pobreza\, marginación social y género en la Roma antigua’ \nVictoria Escribano Paño (Zaragoza): ‘Los pobres y los empobrecidos en el discurso imperial y en la legislación: de Constantino I a Teodosio II’ \nPedro Barceló (Potsdam): ‘Revueltas de hambre en las ciudades tardoantiguas’ \nClausura \nPublicidadPobrezaMundoAntiguo \n  \nEntidades colaboradoras: \nInstInstitución Fernando el Católico \nUniversidad de Zaragoza \nGrupo de Investigación Hiberus \nAyuntamiento de Zaragoza \n
URL:https://hiberus.unizar.es/evento/xi-coloquio-de-historia-antigua-de-la-universidad-de-zaragoza-pobreza-en-el-mundo-antiguo-francisco-pina-polo-francisco-marco-simon-victoria-escribano-pano-laura-sancho-rocher/
LOCATION:Museo Pablo Gargallo\, Plaza San Felipe 3\, Zaragoza\, Zaragoza\, España
CATEGORIES:Congreso
ATTACH;FMTTYPE=image/jpeg:https://hiberus.unizar.es/wp-content/uploads/2021/07/pobreza.jpg
END:VEVENT
END:VCALENDAR