BEGIN:VCALENDAR
VERSION:2.0
PRODID:-//HIBERUS - ECPv4.9.13//NONSGML v1.0//EN
CALSCALE:GREGORIAN
METHOD:PUBLISH
X-WR-CALNAME:HIBERUS
X-ORIGINAL-URL:https://hiberus.unizar.es
X-WR-CALDESC:Eventos para HIBERUS
BEGIN:VTIMEZONE
TZID:Europe/Madrid
BEGIN:DAYLIGHT
TZOFFSETFROM:+0100
TZOFFSETTO:+0200
TZNAME:CEST
DTSTART:20200329T010000
END:DAYLIGHT
BEGIN:STANDARD
TZOFFSETFROM:+0200
TZOFFSETTO:+0100
TZNAME:CET
DTSTART:20201025T010000
END:STANDARD
END:VTIMEZONE
BEGIN:VEVENT
DTSTART;TZID=Europe/Madrid:20201127T123000
DTEND;TZID=Europe/Madrid:20201127T123000
DTSTAMP:20260419T225224
CREATED:20201115T154924Z
LAST-MODIFIED:20201115T154936Z
UID:6984-1606480200-1606480200@hiberus.unizar.es
SUMMARY:Introducing Hesperia\, a Database of Palaeohispanic languages and epigraphies/ María José Estarán Tolosa
DESCRIPTION:Esta comunicación tiene lugar en el I Workshop de la red A Digital Framework for the Medieval Gaelic World\, «The changing face of research in the digital age». \n
URL:https://hiberus.unizar.es/evento/introducing-hesperia-a-database-of-palaeohispanic-languages-and-epigraphies-maria-jose-estaran-tolosa/
LOCATION:Online (Zoom)\, Cambridge\, Reino Unido
CATEGORIES:Congreso
END:VEVENT
END:VCALENDAR