BEGIN:VCALENDAR
VERSION:2.0
PRODID:-//HIBERUS - ECPv4.9.13//NONSGML v1.0//EN
CALSCALE:GREGORIAN
METHOD:PUBLISH
X-WR-CALNAME:HIBERUS
X-ORIGINAL-URL:https://hiberus.unizar.es
X-WR-CALDESC:Eventos para HIBERUS
BEGIN:VTIMEZONE
TZID:Europe/Madrid
BEGIN:DAYLIGHT
TZOFFSETFROM:+0100
TZOFFSETTO:+0200
TZNAME:CEST
DTSTART:20200329T010000
END:DAYLIGHT
BEGIN:STANDARD
TZOFFSETFROM:+0200
TZOFFSETTO:+0100
TZNAME:CET
DTSTART:20201025T010000
END:STANDARD
END:VTIMEZONE
BEGIN:VEVENT
DTSTART;TZID=Europe/Madrid:20201110T183000
DTEND;TZID=Europe/Madrid:20201110T183000
DTSTAMP:20260419T125753
CREATED:20200921T092235Z
LAST-MODIFIED:20201115T121416Z
UID:6957-1605033000-1605033000@hiberus.unizar.es
SUMMARY:Cicerón: el filósofo que amaba la política (con la participación de J. M. Pou)/ Francisco Pina Polo
DESCRIPTION:Conferencia en el marco del ciclo Marco Tulio Cicerón: su vida\, su obra\, su tiempo de la Fundación Juan March. \n“Marco Tulio Cicerón fue un animal político en el sentido aristotélico del término”\, con estas palabras comienza el catedrático de Historia Antigua de la Universidad de Zaragoza\, Francisco Pina Polo\, esta semblanza de uno de los mejores oradores de su tiempo. Cicerón fue un homo novus\, instruido en derecho\, política y retórica\, y un pródigo escritor que abordó en sus obras múltiples temas\, tales como la elocuencia\, la amistad\, la divinidad\, la muerte o la inmortalidad\, donde además exhortaba su propia figura y condenaba las de sus enemigos. Algunos extractos de estos textos son dramatizados por el actor Josep María Pou\, que concluye con un breve fragmento de Viejo amigo Cicerón (Ernesto Caballero) donde se describe la propia muerte de Cicerón. \nVídeo completo aquí. \n
URL:https://hiberus.unizar.es/evento/ciceron-triunfo-y-frustracion-de-un-advenedizo-con-la-participacion-de-j-m-pou-francisco-pina-polo/
LOCATION:Fundación Juan March\, Castelló 77\, Madrid\, 28006\, España
ATTACH;FMTTYPE=image/jpeg:https://hiberus.unizar.es/wp-content/uploads/2020/09/Marek_Tuliiusz_Cyceron_enhanced.jpg
END:VEVENT
END:VCALENDAR