BEGIN:VCALENDAR
VERSION:2.0
PRODID:-//HIBERUS - ECPv4.9.13//NONSGML v1.0//EN
CALSCALE:GREGORIAN
METHOD:PUBLISH
X-WR-CALNAME:HIBERUS
X-ORIGINAL-URL:https://hiberus.unizar.es
X-WR-CALDESC:Eventos para HIBERUS
BEGIN:VTIMEZONE
TZID:Europe/Madrid
BEGIN:DAYLIGHT
TZOFFSETFROM:+0100
TZOFFSETTO:+0200
TZNAME:CEST
DTSTART:20200329T010000
END:DAYLIGHT
BEGIN:STANDARD
TZOFFSETFROM:+0200
TZOFFSETTO:+0100
TZNAME:CET
DTSTART:20201025T010000
END:STANDARD
END:VTIMEZONE
BEGIN:VEVENT
DTSTART;TZID=Europe/Madrid:20201001T183000
DTEND;TZID=Europe/Madrid:20201001T183000
DTSTAMP:20260420T004646
CREATED:20200921T090937Z
LAST-MODIFIED:20200921T092338Z
UID:6943-1601577000-1601577000@hiberus.unizar.es
SUMMARY:Cicerón\, el filósofo que amaba la política/ Francisco Pina Polo
DESCRIPTION:
URL:https://hiberus.unizar.es/evento/ciceron-el-filosofo-que-amaba-la-politica-francisco-pina-polo/
LOCATION:Museo de Prehistoria y Arqueología de Cantabria\, Santander
CATEGORIES:Conferencia
ATTACH;FMTTYPE=image/jpeg:https://hiberus.unizar.es/wp-content/uploads/2020/09/Marek_Tuliiusz_Cyceron_enhanced.jpg
END:VEVENT
END:VCALENDAR