BEGIN:VCALENDAR
VERSION:2.0
PRODID:-//HIBERUS - ECPv4.9.13//NONSGML v1.0//EN
CALSCALE:GREGORIAN
METHOD:PUBLISH
X-WR-CALNAME:HIBERUS
X-ORIGINAL-URL:https://hiberus.unizar.es
X-WR-CALDESC:Eventos para HIBERUS
BEGIN:VTIMEZONE
TZID:Europe/Madrid
BEGIN:DAYLIGHT
TZOFFSETFROM:+0100
TZOFFSETTO:+0200
TZNAME:CEST
DTSTART:20200329T010000
END:DAYLIGHT
BEGIN:STANDARD
TZOFFSETFROM:+0200
TZOFFSETTO:+0100
TZNAME:CET
DTSTART:20201025T010000
END:STANDARD
END:VTIMEZONE
BEGIN:VEVENT
DTSTART;TZID=Europe/Madrid:20200907T100000
DTEND;TZID=Europe/Madrid:20200907T100000
DTSTAMP:20260420T051338
CREATED:20200921T093353Z
LAST-MODIFIED:20200921T093353Z
UID:6960-1599472800-1599472800@hiberus.unizar.es
SUMMARY:Multilingual Inscriptions/ María José Estarán Tolosa
DESCRIPTION:Alteritas\, L’Università di Verona\, l’Università di Las Palmas de Gran Canaria\, l’Università di Roma “Tor Vergata” e i Musei Civici di Verona sono lieti di annunciare la TRAINING SCHOOL INTERNAZIONALE DI EPIGRAFIA DIGITALE\, dedicata agli strumenti per lo studio (supporti epigrafici\, teoria dell’atto scrittorio\, multilinguismo\, metodi di datazione)\, l’informatizzazione (database epigrafici\, QGIS\, wiki sources)\, la digitalizzazione (fotogrammetria\, laser scanner) del testo epigrafico. Oltre alle lingue corpus (latino e greco) la training school avrà come oggetto anche le lingue frammentarie (etrusco-italiche preromane\, fenicio-punica\, gallo/celtiche\, paleoispaniche). Le lezioni teoriche saranno intervallate da virtual tour delle principali collezioni epigrafiche veronesi (Museo Maffeiano\, Museo Archeologico e Giardino Giusti)\, da chatroom in cui gli studenti potranno confrontarsi con i docenti e da esercitazioni. \nObiettivo del corso è fornire gli strumenti per un inquadramento complessivo del testo\, dal suo rilevamento\, alla comprensione del “senso” e infine all’edizione\, offrendo agli studenti esempi presi da complessi epigrafici diversi del mondo antico. \nIl corso\, che si terrà interamente online attraverso la piattaforma Moodle\, si rivolge agli studenti di ogni grado di epigrafia\, storia\, linguistica\, e altre discipline storiche del mondo antico\, a dottorandi e dottori di ricerca\, ai docenti di materie storiografiche e linguistiche\, a funzionari archeologi e ad altri professionisti. \n
URL:https://hiberus.unizar.es/evento/multilingual-inscriptions-maria-jose-estaran-tolosa/
LOCATION:Online
CATEGORIES:Curso
ATTACH;FMTTYPE=image/png:https://hiberus.unizar.es/wp-content/uploads/2020/09/Sin-título.png
END:VEVENT
END:VCALENDAR