BEGIN:VCALENDAR
VERSION:2.0
PRODID:-//HIBERUS - ECPv4.9.13//NONSGML v1.0//EN
CALSCALE:GREGORIAN
METHOD:PUBLISH
X-WR-CALNAME:HIBERUS
X-ORIGINAL-URL:https://hiberus.unizar.es
X-WR-CALDESC:Eventos para HIBERUS
BEGIN:VTIMEZONE
TZID:Europe/Madrid
BEGIN:DAYLIGHT
TZOFFSETFROM:+0100
TZOFFSETTO:+0200
TZNAME:CEST
DTSTART:20200329T010000
END:DAYLIGHT
BEGIN:STANDARD
TZOFFSETFROM:+0200
TZOFFSETTO:+0100
TZNAME:CET
DTSTART:20201025T010000
END:STANDARD
END:VTIMEZONE
BEGIN:VEVENT
DTSTART;VALUE=DATE:20200417
DTEND;VALUE=DATE:20200421
DTSTAMP:20260422T120423
CREATED:20200122T111422Z
LAST-MODIFIED:20200122T111606Z
UID:6904-1587081600-1587427199@hiberus.unizar.es
SUMMARY:Classical Association Conference 2020/ Celia Sánchez Natalías
DESCRIPTION:Celia Sánchez Natalías presentará la comunicación «Habits within the habit: The various trends in North African defixiones»\, en el Panel «Regional Epigraphic Cultures Across the Ancient Globe»\, organizado por Ilaria Bultrighini e Irene Salvo. \nUK-Classical-Association-Conference-programme \n
URL:https://hiberus.unizar.es/evento/habits-within-the-habit-the-various-trends-in-north-african-defixiones-celia-sanchez-natalias/
LOCATION:Swansea University
CATEGORIES:Congreso
END:VEVENT
END:VCALENDAR