BEGIN:VCALENDAR
VERSION:2.0
PRODID:-//HIBERUS - ECPv4.9.13//NONSGML v1.0//EN
CALSCALE:GREGORIAN
METHOD:PUBLISH
X-WR-CALNAME:HIBERUS
X-ORIGINAL-URL:https://hiberus.unizar.es
X-WR-CALDESC:Eventos para HIBERUS
BEGIN:VTIMEZONE
TZID:Europe/Madrid
BEGIN:DAYLIGHT
TZOFFSETFROM:+0100
TZOFFSETTO:+0200
TZNAME:CEST
DTSTART:20200329T010000
END:DAYLIGHT
BEGIN:STANDARD
TZOFFSETFROM:+0200
TZOFFSETTO:+0100
TZNAME:CET
DTSTART:20201025T010000
END:STANDARD
END:VTIMEZONE
BEGIN:VEVENT
DTSTART;VALUE=DATE:20200325
DTEND;VALUE=DATE:20200328
DTSTAMP:20260422T154151
CREATED:20200205T084717Z
LAST-MODIFIED:20200205T084717Z
UID:6926-1585094400-1585353599@hiberus.unizar.es
SUMMARY:The Real Estate Market in the Roman World/ Francisco Pina Polo
DESCRIPTION:
URL:https://hiberus.unizar.es/evento/the-real-estate-market-in-the-roman-world-francisco-pina-polo/
LOCATION:Montague Room\, G26\, Ground Floor\, Senate House\, Malet Street\, Londres\, WC1E 7HU\, Reino Unido
CATEGORIES:Congreso
END:VEVENT
END:VCALENDAR