BEGIN:VCALENDAR
VERSION:2.0
PRODID:-//HIBERUS - ECPv4.9.13//NONSGML v1.0//EN
CALSCALE:GREGORIAN
METHOD:PUBLISH
X-WR-CALNAME:HIBERUS
X-ORIGINAL-URL:https://hiberus.unizar.es
X-WR-CALDESC:Eventos para HIBERUS
BEGIN:VTIMEZONE
TZID:Europe/Madrid
BEGIN:DAYLIGHT
TZOFFSETFROM:+0100
TZOFFSETTO:+0200
TZNAME:CEST
DTSTART:20200329T010000
END:DAYLIGHT
BEGIN:STANDARD
TZOFFSETFROM:+0200
TZOFFSETTO:+0100
TZNAME:CET
DTSTART:20201025T010000
END:STANDARD
END:VTIMEZONE
BEGIN:VEVENT
DTSTART;TZID=Europe/Madrid:20200225T190000
DTEND;TZID=Europe/Madrid:20200225T203000
DTSTAMP:20260422T153752
CREATED:20200205T083839Z
LAST-MODIFIED:20200205T084211Z
UID:6916-1582657200-1582662600@hiberus.unizar.es
SUMMARY:La cultura política de la República romana. Un debate historiográfico internacional
DESCRIPTION:Acto de presentación de la colección Libera Res Publica. Monografías sobre la República Romana (PUZ) y de su primer volumen\, La cultura política de la República romana. Un debate historiográfico internacional. El acto contará con la intervención de K. J. Hölkeskamp (autor)\, que pronunciará una conferencia sobre el tema “Political Culture – Career of a Concept: The Roman Republic in Modern Historiography”; de F. Beltrán Lloris\, vicerrector de Internacionalización y Cooperación\, y de F. Pina Polo\, catedrático de Historia Antigua de la UZ y co-director de la colección. \n
URL:https://hiberus.unizar.es/evento/la-cultura-politica-de-la-republica-romana-un-debate-historiografico-internacional/
LOCATION:Sala Pilar Sinués\, Paraninfo Universidad de Zaragoza.\, Plaza Basilio Paraíso\, 4\, Zaragoza\, España
CATEGORIES:Presentación de libro
ATTACH;FMTTYPE=image/jpeg:https://hiberus.unizar.es/wp-content/uploads/2020/02/139201-1.jpg
END:VEVENT
END:VCALENDAR