BEGIN:VCALENDAR
VERSION:2.0
PRODID:-//HIBERUS - ECPv4.9.13//NONSGML v1.0//EN
CALSCALE:GREGORIAN
METHOD:PUBLISH
X-WR-CALNAME:HIBERUS
X-ORIGINAL-URL:https://hiberus.unizar.es
X-WR-CALDESC:Eventos para HIBERUS
BEGIN:VTIMEZONE
TZID:Europe/Madrid
BEGIN:DAYLIGHT
TZOFFSETFROM:+0100
TZOFFSETTO:+0200
TZNAME:CEST
DTSTART:20200329T010000
END:DAYLIGHT
BEGIN:STANDARD
TZOFFSETFROM:+0200
TZOFFSETTO:+0100
TZNAME:CET
DTSTART:20201025T010000
END:STANDARD
END:VTIMEZONE
BEGIN:VEVENT
DTSTART;TZID=Europe/Madrid:20200218T193000
DTEND;TZID=Europe/Madrid:20200218T203000
DTSTAMP:20260422T201026
CREATED:20200207T133609Z
LAST-MODIFIED:20200207T133609Z
UID:6931-1582054200-1582057800@hiberus.unizar.es
SUMMARY:Lépido en Terracina. Novedades epigráficas de las excavaciones del teatro romano de Terracina (Lacio\, Italia)/ Gianluca Gregori
DESCRIPTION:\n\n\nLas excavaciones desarrolladas en el último decenio en el teatro romano de Terracina\, al sur del Lacio\, han permitido recuperar parte de las estructuras antiguas del mismo\, así como liberar el suelo de la orchestra. En esa zona se han recuperado numerosos fragmentos epigráficos que pertenecían a la decoración del edificio y a varias inscripciones dedicadas a diferentes personajes ilustres de la política romana. Entre todas ellas\, destaca por su buen estado de conservación una inscripción realizada en honor del triunviro Marco Emilio Lépido\, que arroja nueva luz sobre algunos detalles de su desafortunada carrera política. \nGianluca Gregori es Catedrático de Epigrafía Latina en la Università di Roma – La Sapienza. Entre sus intereses científicos destaca la historia del coleccionismo epigráfico\, con especial atención a los falsos y la epigrafía del Renacimiento\, la edición de inscripciones inéditas de Roma\, la epigrafía municipal\, la historia social y económica del Imperio Romano\, así como la epigrafía anfiteatral. Ha sido responsable de la coordinación del catálogo de la colección epigráfica del Museo Nacional Romano. \n\n\n\n
URL:https://hiberus.unizar.es/evento/lepido-en-terracina-novedades-epigraficas-de-las-excavaciones-del-teatro-romano-de-terracina-lacio-italia-gianluca-gregori/
LOCATION:Edificio Cervantes\, Aula A\, Calle Corona de Aragón\, 42\, Zaragoza\, 50009\, España
CATEGORIES:Conferencia
ATTACH;FMTTYPE=image/png:https://hiberus.unizar.es/wp-content/uploads/2020/02/Captura-de-pantalla-2020-02-07-a-las-14.34.26-e1581082537106.png
END:VEVENT
END:VCALENDAR