BEGIN:VCALENDAR
VERSION:2.0
PRODID:-//HIBERUS - ECPv4.9.13//NONSGML v1.0//EN
CALSCALE:GREGORIAN
METHOD:PUBLISH
X-WR-CALNAME:HIBERUS
X-ORIGINAL-URL:https://hiberus.unizar.es
X-WR-CALDESC:Eventos para HIBERUS
BEGIN:VTIMEZONE
TZID:Europe/Madrid
BEGIN:DAYLIGHT
TZOFFSETFROM:+0100
TZOFFSETTO:+0200
TZNAME:CEST
DTSTART:20200329T010000
END:DAYLIGHT
BEGIN:STANDARD
TZOFFSETFROM:+0200
TZOFFSETTO:+0100
TZNAME:CET
DTSTART:20201025T010000
END:STANDARD
END:VTIMEZONE
BEGIN:VEVENT
DTSTART;VALUE=DATE:20200213
DTEND;VALUE=DATE:20200215
DTSTAMP:20260422T201024
CREATED:20191105T122135Z
LAST-MODIFIED:20200207T134413Z
UID:6831-1581552000-1581724799@hiberus.unizar.es
SUMMARY:Congreso Internacional "Siste et lege. La escritura expuesta en las sociedades de la Italia antigua (siglos III-I a.C.)"/ Francisco Beltrán\, Borja Díaz\, María José Estarán
DESCRIPTION:\n\n\nDurante los siglos III y I a. C. se produce en la Península Itálica un incipiente desarrollo de la epigrafía monumental. En ella se da además una notable diversidad lingüística\, con inscripciones en etrusco\, osco\, umbro\, griego o latino\, principalmente. Este desarrollo concluye con la latinización a lo largo del siglo I a. C. y con la nueva cultura epigráfica que surge en época de Augusto. \nEl objetivo de este encuentro es analizar esta documentación y su desarrollo: qué tipo de textos aparecen en las inscripciones (funerarios\, edilicios\, honoríficos\, etc.)\, en qué espacios se ubicaban (foros\, necrópolis\, santuarios\, etc.)\, quiénes fueron sus promotores (magistrados\, particulares\, etc.) y cómo se creó una escritura lapidaria. \n\n\n\nEl presente congreso ha sido organizado por la Escuela Española de Historia y Arqueología en Roma-CSIC y el proyecto PEAI Public Epigraphy in Ancient Italy (third-first centuries BCE)\, premiado con una beca Marie Sklodowska- Curie (European Union’s Horizon 2020\, Grant agreement no 794476) y desarrollado en la Università degli Studi di Roma Tor Vergata. La reunión ha sido también posible gracias a la colaboración del Museo Nazionale Romano delle Terme di Diocleziano. \n\nConsulta el programa del congreso aquí: DIPTICO Siste et lege. ESPAÑOL(1) \n\n\n\n\n\n
URL:https://hiberus.unizar.es/evento/congreso-internacional-siste-et-lege-la-escritura-expuesta-en-las-sociedades-de-la-italia-antigua-siglos-iii-i-a-c-francisco-beltran-borja-diaz-maria-jose-estaran/
LOCATION:Escuela Española de Historia y Arqueología en Roma\, via di Santa Eufemia\, 13\, Roma\, 00187\, Italia
CATEGORIES:Congreso
ATTACH;FMTTYPE=image/png:https://hiberus.unizar.es/wp-content/uploads/2019/11/Captura-de-pantalla-2020-02-07-a-las-14.41.01-e1581082949308.png
END:VEVENT
END:VCALENDAR