BEGIN:VCALENDAR
VERSION:2.0
PRODID:-//HIBERUS - ECPv4.9.13//NONSGML v1.0//EN
CALSCALE:GREGORIAN
METHOD:PUBLISH
X-WR-CALNAME:HIBERUS
X-ORIGINAL-URL:https://hiberus.unizar.es
X-WR-CALDESC:Eventos para HIBERUS
BEGIN:VTIMEZONE
TZID:Europe/Madrid
BEGIN:DAYLIGHT
TZOFFSETFROM:+0100
TZOFFSETTO:+0200
TZNAME:CEST
DTSTART:20200329T010000
END:DAYLIGHT
BEGIN:STANDARD
TZOFFSETFROM:+0200
TZOFFSETTO:+0100
TZNAME:CET
DTSTART:20201025T010000
END:STANDARD
END:VTIMEZONE
BEGIN:VEVENT
DTSTART;TZID=Europe/Madrid:20200122T190000
DTEND;TZID=Europe/Madrid:20200122T200000
DTSTAMP:20260423T202450
CREATED:20191105T114704Z
LAST-MODIFIED:20200110T094740Z
UID:6808-1579719600-1579723200@hiberus.unizar.es
SUMMARY:Dios Sol y formas de adoración solar en el Occidente del Imperio Romano/ Lorenzo Pérez Yarza
DESCRIPTION:Ciclo de Conferencias de Jóvenes Doctores del Grupo Hiberus \n
URL:https://hiberus.unizar.es/evento/ciclo-de-conferencias-de-jovenes-doctores-lorenzo-perez-yarza/
LOCATION:Edificio Cervantes\, Aula A\, Calle Corona de Aragón\, 42\, Zaragoza\, 50009\, España
CATEGORIES:Conferencia
END:VEVENT
END:VCALENDAR