BEGIN:VCALENDAR
VERSION:2.0
PRODID:-//HIBERUS - ECPv4.9.13//NONSGML v1.0//EN
CALSCALE:GREGORIAN
METHOD:PUBLISH
X-WR-CALNAME:HIBERUS
X-ORIGINAL-URL:https://hiberus.unizar.es
X-WR-CALDESC:Eventos para HIBERUS
BEGIN:VTIMEZONE
TZID:Europe/Madrid
BEGIN:DAYLIGHT
TZOFFSETFROM:+0100
TZOFFSETTO:+0200
TZNAME:CEST
DTSTART:20190331T010000
END:DAYLIGHT
BEGIN:STANDARD
TZOFFSETFROM:+0200
TZOFFSETTO:+0100
TZNAME:CET
DTSTART:20191027T010000
END:STANDARD
END:VTIMEZONE
BEGIN:VEVENT
DTSTART;TZID=Europe/Madrid:20191202T193000
DTEND;TZID=Europe/Madrid:20191202T193000
DTSTAMP:20260423T221255
CREATED:20191105T121652Z
LAST-MODIFIED:20191105T121729Z
UID:6827-1575315000-1575315000@hiberus.unizar.es
SUMMARY:Castrensis o castrensis? Quando una maiuscola fa la differenza/ Silvia Orlandi
DESCRIPTION:
URL:https://hiberus.unizar.es/evento/castrensis-o-castrensis-quando-una-maiuscola-fa-la-differenza-silvia-orlandi/
LOCATION:Edificio Cervantes\, Aula A\, Calle Corona de Aragón\, 42\, Zaragoza\, 50009\, España
CATEGORIES:Conferencia
END:VEVENT
END:VCALENDAR