BEGIN:VCALENDAR
VERSION:2.0
PRODID:-//HIBERUS - ECPv4.9.13//NONSGML v1.0//EN
CALSCALE:GREGORIAN
METHOD:PUBLISH
X-WR-CALNAME:HIBERUS
X-ORIGINAL-URL:https://hiberus.unizar.es
X-WR-CALDESC:Eventos para HIBERUS
BEGIN:VTIMEZONE
TZID:Europe/Madrid
BEGIN:DAYLIGHT
TZOFFSETFROM:+0100
TZOFFSETTO:+0200
TZNAME:CEST
DTSTART:20190331T010000
END:DAYLIGHT
BEGIN:STANDARD
TZOFFSETFROM:+0200
TZOFFSETTO:+0100
TZNAME:CET
DTSTART:20191027T010000
END:STANDARD
END:VTIMEZONE
BEGIN:VEVENT
DTSTART;VALUE=DATE:20191127
DTEND;VALUE=DATE:20191202
DTSTAMP:20260423T221254
CREATED:20191105T115516Z
LAST-MODIFIED:20191105T115622Z
UID:6814-1574812800-1575244799@hiberus.unizar.es
SUMMARY:III Seminario Libera Res Publica de estudios sobre la República romana/ Francisco Pina Polo\, María García Magán\, Rubén Escorihuela
DESCRIPTION:
URL:https://hiberus.unizar.es/evento/iii-seminario-libera-res-publica-de-estudios-sobre-la-republica-romana-francisco-pina-polo-maria-garcia-magan-ruben-escorihuela/
LOCATION:Universidad de las Islas Baleares\, Carretera de Valldemossa\, km 7.5\, Palma de Mallorca\, 07122\, España
CATEGORIES:Congreso
END:VEVENT
BEGIN:VEVENT
DTSTART;TZID=Europe/Madrid:20191129T094500
DTEND;TZID=Europe/Madrid:20191129T180000
DTSTAMP:20260423T221254
CREATED:20191112T110049Z
LAST-MODIFIED:20191127T100718Z
UID:6862-1575020700-1575050400@hiberus.unizar.es
SUMMARY:A Denied Iron Age / La Edad del Hierro negada/ Gabriel Sopeña Genzor
DESCRIPTION: \n
URL:https://hiberus.unizar.es/evento/a-denied-iron-age-la-edad-del-hierro-negada-gabriel-sopena-genzor/
LOCATION:Biblioteca María Moliner\, Unizar\, Calle de Pedro Cerbuna\, 12\, Zaragoza\, Zaragoza\, 50009
CATEGORIES:Congreso
ATTACH;FMTTYPE=image/jpeg:https://hiberus.unizar.es/wp-content/uploads/2019/11/Cartel-Edad-Hierrob-e1573559554489.jpg
END:VEVENT
END:VCALENDAR