BEGIN:VCALENDAR
VERSION:2.0
PRODID:-//HIBERUS - ECPv4.9.13//NONSGML v1.0//EN
CALSCALE:GREGORIAN
METHOD:PUBLISH
X-WR-CALNAME:HIBERUS
X-ORIGINAL-URL:https://hiberus.unizar.es
X-WR-CALDESC:Eventos para HIBERUS
BEGIN:VTIMEZONE
TZID:Europe/Madrid
BEGIN:DAYLIGHT
TZOFFSETFROM:+0100
TZOFFSETTO:+0200
TZNAME:CEST
DTSTART:20220327T010000
END:DAYLIGHT
BEGIN:STANDARD
TZOFFSETFROM:+0200
TZOFFSETTO:+0100
TZNAME:CET
DTSTART:20221030T010000
END:STANDARD
END:VTIMEZONE
BEGIN:VEVENT
DTSTART;TZID=Europe/Madrid:20220514T140000
DTEND;TZID=Europe/Madrid:20220514T140000
DTSTAMP:20260425T034534
CREATED:20220411T104225Z
LAST-MODIFIED:20220411T104225Z
UID:7142-1652536800-1652536800@hiberus.unizar.es
SUMMARY:Bilingualism and the Latin Language in the Iberian Peninsula  María José Estarán Tolosa 
DESCRIPTION:El British Epigraphic Society Spring Meeting de 2022 estará dedicado al recuerdo de J. N. Adams. Las intervenciones ofrecerán una oportunidad para reflexionar sobre los ámbitos y los tipos de fuentes epigráficas estudiadas por él. Es posible asistir en remoto\, previo registro en la página de Eventbrite del evento. \n  \n
URL:https://hiberus.unizar.es/evento/bilingualism-and-the-latin/
LOCATION:Ioannou Centre for Classical and Byzantine Studies\, 66\, St. Giles'\, Oxford\, \, Oxford\, OX1 3LU\, Reino Unido
CATEGORIES:Conferencia
END:VEVENT
END:VCALENDAR